BEGIN:VCALENDAR
VERSION:2.0
PRODID:-//Juarez Competitiva - ECPv4.6.6//NONSGML v1.0//EN
CALSCALE:GREGORIAN
METHOD:PUBLISH
X-WR-CALNAME:Juarez Competitiva
X-ORIGINAL-URL:http://www.asifuejuarezcompetitiva.com
X-WR-CALDESC:Events for Juarez Competitiva
BEGIN:VEVENT
DTSTART;VALUE=DATE:20111014
DTEND;VALUE=DATE:20111015
DTSTAMP:20260424T205423
CREATED:20171102T153052Z
LAST-MODIFIED:20171102T153052Z
UID:306-1318550400-1318636799@www.asifuejuarezcompetitiva.com
SUMMARY:Área de juego libre
DESCRIPTION:Área de juego libre: Concurso Pac-Man en parejas\, Concurso The Games\, Games Show. \n
URL:http://www.asifuejuarezcompetitiva.com/event/area-de-juego-libre/
CATEGORIES:Exposición
END:VEVENT
END:VCALENDAR