BEGIN:VCALENDAR
VERSION:2.0
PRODID:-//Juarez Competitiva - ECPv4.6.6//NONSGML v1.0//EN
CALSCALE:GREGORIAN
METHOD:PUBLISH
X-WR-CALNAME:Juarez Competitiva
X-ORIGINAL-URL:http://www.asifuejuarezcompetitiva.com
X-WR-CALDESC:Events for Juarez Competitiva
BEGIN:VEVENT
DTSTART;VALUE=DATE:20111022
DTEND;VALUE=DATE:20111023
DTSTAMP:20260424T190852
CREATED:20171112T213841Z
LAST-MODIFIED:20171115T040611Z
UID:460-1319241600-1319327999@www.asifuejuarezcompetitiva.com
SUMMARY:Arte y Cultura
DESCRIPTION:\n\n\nNombre del Evento\nDescripción\n\n\n¿Quieres que te lo lea otra vez?\nPlática ofrecida por el actor Manuel Ojeda en la Biblioteca Mediática a las 13:00 horas.\n\n\nLa calle es Libre\nCharla impartida en la Sala de Exhibiciones Temporal a las 14:00 horas.\n\n\nEstímulos fiscales a la lectura\nPlática impartida por José María Montilla en la Biblioteca Mediática a las 14:00 horas.\n\n\nLeo luego existo\nSegunda conferencia impartida por el actor Manuel Ojeda en la Biblioteca Mediática a las 18:00 horas.\n\n\nLetras en el desierto\nEvento realizado en el Patio Central del Centro Interactivo La Rodadora a las 18:30 horas.\n\n\nMesa de Lectura con escritores locales y exhibición de fondos editoriales\nSe efectuó este evento en la Biblioteca Mediática a las 16:00 horas.\n\n\nTalleres de Creatividad\nTaller desarrollado en la Sala de Exhibiciones Temporales de las 11:00 a las 19:00 horas.\n\n\nTaller y exposición de fotografía “Abre tus ojos”\nExposición desarrollada en la Sala de Exposiciones Temporales del Centro Interactivo La Rodadora de las 12:00 a las 16:30 horas.\n\n\nRowe Danza Folklórica\nEvento realizado en el Anfiteatro del Centro Interactivo La Rodadora a las 10:00 horas.\n\n\nEnsamble Universitario de Jazz\nEvento efectuado en el Patio Central del Centro Interactivo La Rodadora a las 11:00 horas.\n\n\nEl Jardín\, Marionetas\nPresentación realizada en Sala de Exhibiciones Temporal de La Rodadora a las11:00 horas.\n\n\nAleph\, teatro lectura en Atril\nEvento efectuado en la Biblioteca Mediática a las 11:00 horas.\n\n\nMariachi Paso del Norte\nEste evento se desarrolló en el espacio del Anfiteatro del Centro Interactivo La Rodadora a las 11:45 horas.\n\n\nCompañía de danza\, Acro Jazz\nEste evento se desarrolló en el Patio Central del Centro Interactivo a las 11:45 horas.\n\n\nCuenta Cuentos\nEvento efectuado en la Sala de Exposiciones Temporales a las 12:00 horas el día 22 de octubre 2011.\n\n\nCuarteto de guitarra clásica Simé\nEvento efectuado en el Patio Central del Centro Interactivo La Rodadora a las 12:05 horas.\n\n\nRuidos\, Sonidos y otras Hierbas\nConcierto realizado en el Anfiteatro del Centro Interactivo La Rodadora a las 12:15 horas.\n\n\nCuarteto de Alientos Ventus\nEvento realizado a las 12:35 horas en el Patio Central del Centro Interactivo La Rodadora.\n\n\nRui-2\nConcierto realizado a las 13:00 horas en el Anfiteatro del Centro Interactivo La Rodadora.\n\n\nEnsamble Coral Universitario\nEvento efectuado a las 13:05 horas en el Patio Central del Centro Interactivo La Rodadora.\n\n\nEnsamble música CMA\nEvento efectuado en el Patio Central del Centro Interactivo La Rodadora a las 13:35 horas.\n\n\nGrupo de danza del CMA\nPresentación realizada en el Anfiteatro del Centro Interactivo La Rodadora a las 14:00 horas.\n\n\nRondalla del Instituto Tecnológico de Ciudad Juárez (ITCJ)\nPresentación efectuada en el Patio Central del Centro Interactivo La Rodadora a las 14:05 horas.\n\n\nCompañía de ballet folklórico de la Universidad Autónoma de Ciudad Juárez (UACJ) y Canto a mi Tierra\nEvento efectuado a las 14:35 en el Patio Central del Centro Interactivo La Rodadora.\n\n\nBallet Folklórico Infantil Omawari\nEvento realizado en la Sala de Exhibiciones Temporales del Centro Interactivo La Rodadora a las 15:00 horas.\n\n\nJuárez Rock 60’s\nConcierto realizado a las 15:00 horas en el Anfiteatro del Centro Interactivo La Rodadora.\n\n\nGrupo Universitario de teatro “Lectura en Atril”\nFunción realizada en la Biblioteca Mediática del Centro Interactivo La Rodadora a las 15:00 horas.\n\n\nBallet Folklórico Makawi del CBTIS 114\nEvento realizado en el Patio Centra de La Rodadora a las 3:45 horas.\n\n\nLa fábula de los buenos amigos\, Marionetas\nEvento realizado a las 16:00 horas en la Sala de Exhibiciones Temporal del Centro Interactivo La Rodadora.\n\n\nJornada de Rock Juárez Vive\nEvento realizado a las 16:30 horas en el espacio del Anfiteatro de La Rodadora.\n\n\nBallet Folklórico de mentes brillantes\nExposición realizada en la Sala de Exhibiciones Temporales del Centro Interactivo a las 17:00 horas.\n\n\nDanzonero Ciudad Juárez\nEvento Musical realizado en el Patio Central de La Rodadora a las 17:00 horas.\n\n\nCompañía de teatro Candilejas en el Desierto\, Lectura en Atril\nFunción efectuada en la Biblioteca Mediática de La Rodadora a las 17:00 horas.\n\n\nConcierto Sessions por la Paz\nConcierto efectuado en el Parque Central Poniente en punto de las 18:00 horas.\n\n\n\nConcierto realizado a las 19:00 horas en el Centro Cultural Paso del Norte\, con la participación de la Sinfónica de la Universidad Autónoma de Ciudad Juárez y del Coro de la Universidad Juárez de Durango.\n\n\nCiclo de Cine Universitario\, Estrella Solitaria\nPresentación realizada en el espacio de la Sala 3D del Centro Interactivo La Rodadora a las 10:00 horas.\n\n\nRonda Infantil Barquito de Papel\nEvento efectuado en la Sala de Exhibiciones Temporales del Centro Interactivo La Rodadora a las 10:00 horas.\n\n\nCiclo de cortometrajes juarenses\, Las luces de la batalla\nExhibición presentada en la Sala 3D en el Centro Interactivo La Rodadora a las12:00 horas.\n\n\nEncuentro de comics juarenses\, Exhibición y panel\nExposición presentada en la Biblioteca Mediática a las12:00 horas.\n\n\nCiclo de cine universitario\, Pan y Rosas.\nPresentación realizada a las 12:45 horas en la Sala 3D del Centro Interactivo La Rodadora.\n\n\nDivertimimos\, Pantomima\nEvento efectuado en la Sala de Exhibiciones Temporales del Centro Interactivo La Rodadora a las 13:00 horas.\n\n\nCoreografías de Bellydance\, Folklórico y Hip-Hop del Instituto Tecnológico de Estudios Superiores de Monterrey (ITESM)\nEvento realizado en el Anfiteatro del Centro Interactivo La Rodadora a las 13:30 horas.\n\n\nAleph Cine Club\nExposición efectuada en la Sala 3D del Centro Interactivo La Rodadora a las 14:00 horas.\n\n\nCiclo de cine universitario\, Noche Americana\nPresentación perpetrada a las 14:30 horas en el espacio de la Sala 3D del Centro Interactivo La Rodadora.\n\n\nCortometrajes y temas educativos genéricos\nExposición efectuada en la Sala 3D de La Rodadora a las 16:00 horas.\n\n\nGrupo Mihtotiani\nEvento efectuado en el Anfiteatro del Centro Interactivo La Rodadora en punto de las 16:00 horas.\n\n\nCiclo de Cine Universitario\, Fresas y Chocolate\nExposición de cine efectuado en la Sala 3D del Centro Interactivo La Rodadora enfilo de las 17:00 horas.\n\n\nCiclo de cortometrajes juarenses\, La Batalla de Juárez\nProyección realizada en punto de las 18:30 horas en el espacio de la Sala 3D del Centro Interactivo La Rodadora.\n\n\nCiclo de Cine Universitario\, Chica Terremoto\nExposición efectuada en el espacio de la Sala 3D del Centro Interactivo La Rodadora al filo de las 19:00 horas.\n\n\n\n
URL:http://www.asifuejuarezcompetitiva.com/event/arte-y-cultura/
CATEGORIES:Artísticos
END:VEVENT
END:VCALENDAR