BEGIN:VCALENDAR
VERSION:2.0
PRODID:-//Juarez Competitiva - ECPv4.6.6//NONSGML v1.0//EN
CALSCALE:GREGORIAN
METHOD:PUBLISH
X-WR-CALNAME:Juarez Competitiva
X-ORIGINAL-URL:http://www.asifuejuarezcompetitiva.com
X-WR-CALDESC:Events for Juarez Competitiva
BEGIN:VEVENT
DTSTART;VALUE=DATE:20111013
DTEND;VALUE=DATE:20111014
DTSTAMP:20260425T023452
CREATED:20170810T224154Z
LAST-MODIFIED:20170818T014123Z
UID:163-1318464000-1318550399@www.asifuejuarezcompetitiva.com
SUMMARY:Ceremonia de Inauguración
DESCRIPTION:La ceremonia oficial de inauguración fue presidida por el Presidente de la República Lic. Felipe Calderón Hinojosa\, el gobernador del Estado Lic. Cesar Duarte Jáquez\, Presidente Municipal Ing. Héctor Murguía Lardizabal y por los miembros del Consejo Directivo de Juárez Competitiva\, se realizó en las instalaciones del Museo de la Rodadora \n
URL:http://www.asifuejuarezcompetitiva.com/event/ceremonia-de-inauguracion/
CATEGORIES:Inauguración
ATTACH;FMTTYPE=image/jpeg:http://www.asifuejuarezcompetitiva.com/wp-content/uploads/2017/08/galeria_9.jpg
END:VEVENT
END:VCALENDAR