BEGIN:VCALENDAR
VERSION:2.0
PRODID:-//Juarez Competitiva - ECPv4.6.6//NONSGML v1.0//EN
CALSCALE:GREGORIAN
METHOD:PUBLISH
X-WR-CALNAME:Juarez Competitiva
X-ORIGINAL-URL:http://www.asifuejuarezcompetitiva.com
X-WR-CALDESC:Events for Juarez Competitiva
BEGIN:VEVENT
DTSTART;VALUE=DATE:20111015
DTEND;VALUE=DATE:20111016
DTSTAMP:20260425T002919
CREATED:20171102T204502Z
LAST-MODIFIED:20171102T204502Z
UID:382-1318636800-1318723199@www.asifuejuarezcompetitiva.com
SUMMARY:Chalk the Block
DESCRIPTION:Evento que consiste en transformar las banquetas en obras de arte. Este evento dio inicio a las 10:00 horas en el Centro Interactivo La Rodadora. \n
URL:http://www.asifuejuarezcompetitiva.com/event/chalk-the-block/
CATEGORIES:Exposición
END:VEVENT
END:VCALENDAR