BEGIN:VCALENDAR
VERSION:2.0
PRODID:-//Juarez Competitiva - ECPv4.6.6//NONSGML v1.0//EN
CALSCALE:GREGORIAN
METHOD:PUBLISH
X-WR-CALNAME:Juarez Competitiva
X-ORIGINAL-URL:http://www.asifuejuarezcompetitiva.com
X-WR-CALDESC:Events for Juarez Competitiva
BEGIN:VEVENT
DTSTART;VALUE=DATE:20111016
DTEND;VALUE=DATE:20111017
DTSTAMP:20260424T223028
CREATED:20171102T211907Z
LAST-MODIFIED:20171102T211907Z
UID:395-1318723200-1318809599@www.asifuejuarezcompetitiva.com
SUMMARY:Clase de Zumba
DESCRIPTION:Clase realizada en el Templete Grande del Parque Central de las 13:00 a las 14:00 horas. \n
URL:http://www.asifuejuarezcompetitiva.com/event/clase-de-zumba/
CATEGORIES:Deportivo
END:VEVENT
END:VCALENDAR