BEGIN:VCALENDAR
VERSION:2.0
PRODID:-//Juarez Competitiva - ECPv4.6.6//NONSGML v1.0//EN
CALSCALE:GREGORIAN
METHOD:PUBLISH
X-WR-CALNAME:Juarez Competitiva
X-ORIGINAL-URL:http://www.asifuejuarezcompetitiva.com
X-WR-CALDESC:Events for Juarez Competitiva
BEGIN:VEVENT
DTSTART;VALUE=DATE:20111029
DTEND;VALUE=DATE:20111030
DTSTAMP:20260424T190655
CREATED:20171115T053001Z
LAST-MODIFIED:20171115T053001Z
UID:487-1319846400-1319932799@www.asifuejuarezcompetitiva.com
SUMMARY:Clausura
DESCRIPTION:\n\n\nNombre del Evento\nDescripción\n\n\nRadio por Juárez\nEvento efectuado dentro de todo el Centro Interactivo La Rodadora de 11:00 a.m. a 8:00 p.m.\n\n\n\n
URL:http://www.asifuejuarezcompetitiva.com/event/clausura/
CATEGORIES:Artísticos
END:VEVENT
END:VCALENDAR