BEGIN:VCALENDAR
VERSION:2.0
PRODID:-//Juarez Competitiva - ECPv4.6.6//NONSGML v1.0//EN
CALSCALE:GREGORIAN
METHOD:PUBLISH
X-WR-CALNAME:Juarez Competitiva
X-ORIGINAL-URL:http://www.asifuejuarezcompetitiva.com
X-WR-CALDESC:Events for Juarez Competitiva
BEGIN:VEVENT
DTSTART;VALUE=DATE:20111013
DTEND;VALUE=DATE:20111014
DTSTAMP:20260425T004257
CREATED:20170818T014948Z
LAST-MODIFIED:20170818T015150Z
UID:293-1318464000-1318550399@www.asifuejuarezcompetitiva.com
SUMMARY:Comida con principales CEO’S de la Industria Maquiladora
DESCRIPTION:Comida con los principales CEO’s de la Industria Maquiladora\, empresarios líderes de la comunidad y las autoridades\, el Presidente de la República Lic. Felipe Calderón Hinojosa\, el Gobernador del Estado Lic. Cesar Duarte Jáquez\, Presidente Municipal Ing. Héctor Murguía Lardizabal y por los miembros del Consejo Directivo de Juárez Competitiva\, realizada en las instalaciones del Hotel Camino Real. \n
URL:http://www.asifuejuarezcompetitiva.com/event/comida-con-principales-ceos-de-la-industria-maquiladora/
CATEGORIES:Comida
END:VEVENT
END:VCALENDAR