BEGIN:VCALENDAR
VERSION:2.0
PRODID:-//Juarez Competitiva - ECPv4.6.6//NONSGML v1.0//EN
CALSCALE:GREGORIAN
METHOD:PUBLISH
X-WR-CALNAME:Juarez Competitiva
X-ORIGINAL-URL:http://www.asifuejuarezcompetitiva.com
X-WR-CALDESC:Events for Juarez Competitiva
BEGIN:VEVENT
DTSTART;VALUE=DATE:20111014
DTEND;VALUE=DATE:20111015
DTSTAMP:20260425T002928
CREATED:20171102T162116Z
LAST-MODIFIED:20171102T162116Z
UID:361-1318550400-1318636799@www.asifuejuarezcompetitiva.com
SUMMARY:Concierto a Dúo en Piano y Cello
DESCRIPTION:Este concierto se realizó a las 19:00 horas en el Centro Cultural Paso del Norte\, siendo interpretado por Nargiza Kamieleva y Alvaro Bitrán. \n
URL:http://www.asifuejuarezcompetitiva.com/event/concierto-a-duo-en-piano-y-cello/
CATEGORIES:Artísticos
END:VEVENT
END:VCALENDAR