BEGIN:VCALENDAR
VERSION:2.0
PRODID:-//Juarez Competitiva - ECPv4.6.6//NONSGML v1.0//EN
CALSCALE:GREGORIAN
METHOD:PUBLISH
X-WR-CALNAME:Juarez Competitiva
X-ORIGINAL-URL:http://www.asifuejuarezcompetitiva.com
X-WR-CALDESC:Events for Juarez Competitiva
BEGIN:VEVENT
DTSTART;VALUE=DATE:20111014
DTEND;VALUE=DATE:20111015
DTSTAMP:20260424T223521
CREATED:20171102T152730Z
LAST-MODIFIED:20171102T152730Z
UID:304-1318550400-1318636799@www.asifuejuarezcompetitiva.com
SUMMARY:Concurso Glitch.
DESCRIPTION:El concurso de Glitch es una de las actividades de Temporada de Patos 8\, el cual inicio al mismo tiempo pero en éste se desarrollaron videojuegos creados utilizando cualquier lenguaje de programación o herramienta como C++\, Java\, Lua\, Actionscript\, Game Makery Multimedia Fusion para cualquier programa de Windows\, OS X o Linux. (Staff\, 2011) \n
URL:http://www.asifuejuarezcompetitiva.com/event/concurso-glitch/
END:VEVENT
END:VCALENDAR