BEGIN:VCALENDAR
VERSION:2.0
PRODID:-//Juarez Competitiva - ECPv4.6.6//NONSGML v1.0//EN
CALSCALE:GREGORIAN
METHOD:PUBLISH
X-WR-CALNAME:Juarez Competitiva
X-ORIGINAL-URL:http://www.asifuejuarezcompetitiva.com
X-WR-CALDESC:Events for Juarez Competitiva
BEGIN:VEVENT
DTSTART;VALUE=DATE:20111016
DTEND;VALUE=DATE:20111017
DTSTAMP:20260424T205836
CREATED:20171102T221346Z
LAST-MODIFIED:20171102T221346Z
UID:412-1318723200-1318809599@www.asifuejuarezcompetitiva.com
SUMMARY:Cuarteto Universitario de la Universidad Autónoma de Ciudad Juárez (UACJ)
DESCRIPTION:Concordia realizada en el Patio Interior del Centro Interactivo La Rodadora de las 17:00 a las 18:00 horas. \n
URL:http://www.asifuejuarezcompetitiva.com/event/cuarteto-universitario-de-la-universidad-autonoma-de-ciudad-juarez-uacj/
CATEGORIES:Artísticos
END:VEVENT
END:VCALENDAR