BEGIN:VCALENDAR
VERSION:2.0
PRODID:-//Juarez Competitiva - ECPv4.6.6//NONSGML v1.0//EN
CALSCALE:GREGORIAN
METHOD:PUBLISH
X-WR-CALNAME:Juarez Competitiva
X-ORIGINAL-URL:http://www.asifuejuarezcompetitiva.com
X-WR-CALDESC:Events for Juarez Competitiva
BEGIN:VEVENT
DTSTART;VALUE=DATE:20111014
DTEND;VALUE=DATE:20111015
DTSTAMP:20260424T224831
CREATED:20171102T160030Z
LAST-MODIFIED:20171102T160030Z
UID:348-1318550400-1318636799@www.asifuejuarezcompetitiva.com
SUMMARY:Curso Intensivo de Fighters
DESCRIPTION:Este curso se llevó a cabo en el espacio de Sala de Exposiciones Temporales iniciando a las 10:00 horas. \n
URL:http://www.asifuejuarezcompetitiva.com/event/curso-intensivo-de-fighters/
CATEGORIES:Talleres
END:VEVENT
END:VCALENDAR