BEGIN:VCALENDAR
VERSION:2.0
PRODID:-//Juarez Competitiva - ECPv4.6.6//NONSGML v1.0//EN
CALSCALE:GREGORIAN
METHOD:PUBLISH
X-WR-CALNAME:Juarez Competitiva
X-ORIGINAL-URL:http://www.asifuejuarezcompetitiva.com
X-WR-CALDESC:Events for Juarez Competitiva
BEGIN:VEVENT
DTSTART;VALUE=DATE:20111016
DTEND;VALUE=DATE:20111017
DTSTAMP:20260424T205742
CREATED:20171109T171752Z
LAST-MODIFIED:20171109T171752Z
UID:436-1318723200-1318809599@www.asifuejuarezcompetitiva.com
SUMMARY:Día de la Familia
DESCRIPTION:\n\n\nNombre del Evento\nDescripción\n\n\nParticipante del Encuentro Nacional de Rondallas\nEvento desarrollado de las 17:00 a las 18:00 horas en el Templete Grande del Parque Central.\n\n\nCon Fe y Esperanza\, programa musical con Mundo Urrutia\nEvento realizado en el Centro Cultural Paso del Norte de las 18:00 a las 20:00 horas.\n\n\nGrupo musical Lov\nConcierto realizado en el Templete del Parque Central de las 19:00 a las 20:00 horas.\n\n\nGrupo Amanecer\nInterpretación musical desarrollada de las 20:00 a las 21:00 horas en el Templete Grande del Parque Central.\n\n\nPinta caritas\, globoflexia\, caballetes\, caricaturistas\, zankeros\, mimos\, personajes de animación infantil y talleres creativos infantiles\nEstas actividades se realizaran desde las 10:00 hasta las 19:00 horas en los jardines y pasillos exteriores del Centro Interactivo La Rodadora y del Parque Central.\n\n\nCápsulas de felicidad\, conferencias motivadores con expertos\nConferencia realizada de las 10:00a las 15:00 horas en la Sala de Exhibiciones Temporales\, y de las 17:00 a las 18:00.\n\n\nPaternidad Responsable\nExposición realizada en la Sala 3D del Centro Interactivo La Rodadora de las 12:00 a las 13:00 horas.\n\n\nSexualidad en el Adolescente\nPresentación realizada en el Auditorio del Parque Central de las 12:00 a las 23:00 horas.\n\n\nCrecer ante la adversidad\nConferencia realizada de las 14:00 a las 15:00 horas en la Sala 3D del Centro Interactivo.\n\n\nSanando a mi niño interior\nConferencia efectuada de las 15:00 a las 16:00 horas en el Auditorio del Parque Central.\n\n\nTú no me entiendes\nPonencia efectuada l en la Sala 3D del Centro Interactivo La Rodadora de las 16:00 a las 17:00 horas.\n\n\nPérdida del ser querido\nConferencia desarrollada en el Auditorio del Parque Central de las 17:00 a las 18:00 horas.\n\n\nTaller de Robótica Educativa\nEvento realizado de las 10:00 a las 13:00 horas en la Biblioteca Mediática. Tiene como objetivos despertar el interés por la ciencia y la tecnología en jóvenes de educación media\, impartiendo talleres divertidos y de aprendizaje en el ámbito de la robótica\, fomentando el trabajo en equipo y la resolución de problemas sencillos en poco tiempo.\n\n\nGeneración Joven: Taller de trabajo en equipo\nEvento realizado en los Jardines Exteriores del Parque Central de las 12:00 a las 13:00 horas.\n\n\nObra de teatro en el umbral\nEvento efectuado de las 13:00 a las 14:00 horas en el Auditorio del Parque Central.\n\n\nNoche de Hogar\nEste evento se realizó a las 15:00 horas en la Sala de Exposiciones Temporales y terminó a las 17:00 horas. Es un proyecto de profundidad y de largo plazo\, el cual trata de introducir el desarrollo de una reunión semanal al interior del núcleo familiar\, en las familias juarenses especialmente en aquellas que tienen hijos adolescentes y niños\, para fortalecer la comprensión\, la unidad y el amor.\n\n\nCaminata de Tres generaciones\nSe trata de una caminata de 3 kilómetros\, donde participan miembros de familias de tres o más generaciones\, en edades desde bebés hasta gente mayor que puedan ir en carreolas o en sillas de ruedas caminando. Esta caminata no busca la competencia si no la participación para promover la convivencia\, la integración y una experiencia afectiva. Se hizo un registro previo en la Agencia Toyota por familia participante\, se dio un premio a las primeras 500 personas y se realizaron sorteos entre los asistentes registrados. Este evento deportivo inició a las 8:00 horas y terminó a las 9:00 horas\, y se realizó en el Circuito Interior del Parque Central.\n\n\nTorneo de Futbol Rápido\nEste evento inició a las 9:00 horas en el Parque Central Oriente y terminó a las 20:00 horas\n\n\nCarrera de Botargas\nActividad que se realizó en tres períodos\, el primero comprendido de las 11:00 a las 12:00 horas\, el segundo de las 14:00 a las 15:00 horas y el último  de  las 17:00 hasta las 18:00 horas\, realizándose las tres etapas en los Jardines Exteriores del Parque Central\n\n\nScouts: actividades al aire libre\nEvento que se realizó desde las 8:00 hasta las 20:00 horas en los Jardines Exteriores del Parque Central\n\n\nExhibición y música en Clínicas de Basquetbol\nEste programa fue patrocinado por el Consulado de Estados Unidos en Ciudad Juárez\, Full Court Peace (Paz en las Canchas) y Basquetbol en el Barrio. Este evento se realizó en el Gimnasio de Bachilleres de las 9:00 a las 13:00 horas y estuvo enfocado a niños y jóvenes que van de los 8 a 18 años. Se contó con la presencia de Michael Evans fundador de Full Court Peace\, que es una organización internacional creada en Belfast\, Irlanda del Norte\, que trabaja con jóvenes en situaciones de riesgo promoviendo el entendimiento mutuo a través del deporte y el liderazgo.\n\n\n\n
URL:http://www.asifuejuarezcompetitiva.com/event/dia-de-la-familia-2/
CATEGORIES:Artísticos
END:VEVENT
END:VCALENDAR