BEGIN:VCALENDAR
VERSION:2.0
PRODID:-//Juarez Competitiva - ECPv4.6.6//NONSGML v1.0//EN
CALSCALE:GREGORIAN
METHOD:PUBLISH
X-WR-CALNAME:Juarez Competitiva
X-ORIGINAL-URL:http://www.asifuejuarezcompetitiva.com
X-WR-CALDESC:Events for Juarez Competitiva
BEGIN:VEVENT
DTSTART;VALUE=DATE:20141014
DTEND;VALUE=DATE:20141015
DTSTAMP:20260424T172129
CREATED:20171102T154358Z
LAST-MODIFIED:20171102T154358Z
UID:319-1413244800-1413331199@www.asifuejuarezcompetitiva.com
SUMMARY:Diseño de Videojuegos.
DESCRIPTION:Este taller se realizó en la Sala 3D del Centro Interactivo La Rodadora y fue impartido por Kaxan Games e inició a las 16:00 horas y terminó 17:30 horas \n
URL:http://www.asifuejuarezcompetitiva.com/event/diseno-de-videojuegos/
CATEGORIES:Talleres
END:VEVENT
END:VCALENDAR