BEGIN:VCALENDAR
VERSION:2.0
PRODID:-//Juarez Competitiva - ECPv4.6.6//NONSGML v1.0//EN
CALSCALE:GREGORIAN
METHOD:PUBLISH
X-WR-CALNAME:Juarez Competitiva
X-ORIGINAL-URL:http://www.asifuejuarezcompetitiva.com
X-WR-CALDESC:Events for Juarez Competitiva
BEGIN:VEVENT
DTSTART;VALUE=DATE:20111027
DTEND;VALUE=DATE:20111028
DTSTAMP:20260424T191114
CREATED:20171115T051433Z
LAST-MODIFIED:20171115T051433Z
UID:483-1319673600-1319759999@www.asifuejuarezcompetitiva.com
SUMMARY:Excelencia Organizacional y Capital Humana
DESCRIPTION:\n\n\nNombre del Evento\nDescripción\n\n\nDe un sueño a una realidad.\nConferencia impartida por Miguel Ángel Castillo\, Ingeniero de la NASA\, responsable del equipo de mantenimiento de la estación espacial orbita y del equipo de diseño de los trajes espaciales. La cual fue efectuada en la Sala de Exhibiciones Temporales en tres diferentes sesiones la primera a las 10:00; la segunda a las 11:00 y la tercera a la 12:00 horas con una duración de 45 minutos\, teniendo como publico meta niños y jóvenes.\n\n\nVideoconferencia Capital Humano.\nVideoconferencia realizada en la Sala de Exhibiciones Temporales del Centro Interactivo La Rodadora de las 10:00 a las 11:00 horas por el CEO David Arkless\, Presidente de Asuntos Corporativos y Gubernamentales de Manpower. El Ceo de Manpower menciono que para que se recupere el empleo en Ciudad Juárez la opción es el emprendimiento\, de igual manera enfatizo que el camino tomado por el gobierno para reconstruir esta frontera no es el más indicado y puso como ejemplo a China que utilizo un esquema de emprendimiento.\n\n\nPanel de Rectores.\nPanel llevado a cabo en la Sala de Exhibiciones Temporales del Centro Interactivo La Rodadora de las 12:00 a las 13:00 horas\, y como moderadores estuvieron el Lic. Jorge Quintana Silveyra\, Secretario de Educación\, Cultura y Deporte del Estado de Chihuahua y Mtro. Héctor Carreón de Delphi / UNAM. Entre los rectores y directores participantes de nivel superior estuvo Javier Sánchez Carlos\, Rector de la Universidad Autónoma de Ciudad Juárez\, Martin López\, Director del Instituto de Instituto Tecnológico de Estudios Superiores de Monterrey. Ricardo García Prado\, Director de la Universidad Tecnológica de Ciudad Juárez\, Juan Armando Hurtado Corral\, Director del Instituto Tecnológico de Ciudad Juárez\, también estuvo Jesús Enrique Seañez Sáenz\, Rector de la Universidad Autónoma de Chihuahua\, así como representantes de la Universidad Nacional Autónoma de México y de la Universidad Autónoma Metropolitana. En este panel se estableció un compromiso para conformar un proyecto de tres ejes que estaría conformado por el sector empresarial\, el aparato gubernamental y las universidades así como la sociedad.\n\n\nVoz de hoy\, impacto del mañana: los jóvenes se expresan.\nEvento efectuado de las 18:00 a las 19:00 horas en la Sala 3D del Centro Interactivo La Rodadora.\n\n\nFeria de la Educación.\nFeria realizada por instituciones educativas en la Tienda de Suvenir del Centro Interactivo La Rodadora de las 8:00 a las 17:00 horas.\n\n\nCeremonia de Reconocimiento al Talento Juarense.\nCeremonia realizada en la Sala de Exhibiciones Temporales de las 15:00 a las 17:00 horas y fue dirigido por la Lic. Xóchitl Díaz\, Líder de este Proyecto. Este proyecto reconoció a las Asociaciones Civiles por su labor realizada en la ciudad\, además al Sr. Miguel Ángel Castillo como una persona talentosa entre otras personalidades.\n\n\nFeria de Empleo.\nEvento realizado en el Gimnasio de Bachilleres de las 8:00 hasta las 16:00 horas y fue organizado por la empresa Manpower en coordinación con la Secretaria del Trabajo y Previsión Social.\n\n\nOrquesta Sinfónica Infantil ¨Esperanza Azteca¨.\nConcierto realizado en el Patio Central del Centro Interactivo La Rodadora de las17:00 a las 18:00 horas.\n\n\nConcierto a 2 voces.\nEste concierto a dos voces fue integrado por jóvenes que se encontraban en situación de drogadicción y de calle\, cantando contra la inseguridad y la violencia en esta ciudad fronteriza. Además estuvo el grupo musical ¨Los del Sótano¨ integrantes del taller ¨Hagámoslo ¨ que ha impartido el programa Hábitat de la Secretaria de Desarrollo Social federal.\n\n\nCompañía de Teatro Telón de Arena ¨Contrabando¨.\nObra efectuada en el Auditorio Benito Juárez de las 19:00 horas a las 20:00 horas.\n\n\n\n
URL:http://www.asifuejuarezcompetitiva.com/event/excelencia-organizacional-y-capital-humana/
CATEGORIES:Artísticos,Conferencias,Otros
END:VEVENT
END:VCALENDAR