BEGIN:VCALENDAR
VERSION:2.0
PRODID:-//Juarez Competitiva - ECPv4.6.6//NONSGML v1.0//EN
CALSCALE:GREGORIAN
METHOD:PUBLISH
X-WR-CALNAME:Juarez Competitiva
X-ORIGINAL-URL:http://www.asifuejuarezcompetitiva.com
X-WR-CALDESC:Events for Juarez Competitiva
BEGIN:VEVENT
DTSTART;VALUE=DATE:20111015
DTEND;VALUE=DATE:20111016
DTSTAMP:20260425T003316
CREATED:20171102T204045Z
LAST-MODIFIED:20171102T204045Z
UID:378-1318636800-1318723199@www.asifuejuarezcompetitiva.com
SUMMARY:Exhibición de Cine Infantil
DESCRIPTION:Cultural Paso del Norte\, siendo interpretado por Nargiza Kamieleva y Alvaro Bitrán. \n
URL:http://www.asifuejuarezcompetitiva.com/event/exhibicion-de-cine-infantil/
CATEGORIES:Artísticos
END:VEVENT
END:VCALENDAR