BEGIN:VCALENDAR
VERSION:2.0
PRODID:-//Juarez Competitiva - ECPv4.6.6//NONSGML v1.0//EN
CALSCALE:GREGORIAN
METHOD:PUBLISH
X-WR-CALNAME:Juarez Competitiva
X-ORIGINAL-URL:http://www.asifuejuarezcompetitiva.com
X-WR-CALDESC:Events for Juarez Competitiva
BEGIN:VEVENT
DTSTART;VALUE=DATE:20111015
DTEND;VALUE=DATE:20111016
DTSTAMP:20260425T003042
CREATED:20171102T205003Z
LAST-MODIFIED:20171102T205003Z
UID:371-1318636800-1318723199@www.asifuejuarezcompetitiva.com
SUMMARY:Grupo Los Silvert
DESCRIPTION:La presentación de este grupo originario de Distrito Federal\,  se realizó en el Patio Central del Centro Interactivo La Rodadora e inicio a las 19:00 horas y finalizó a las 21:00 horas. \n
URL:http://www.asifuejuarezcompetitiva.com/event/grupo-los-silvert/
CATEGORIES:Artísticos
END:VEVENT
END:VCALENDAR