BEGIN:VCALENDAR
VERSION:2.0
PRODID:-//Juarez Competitiva - ECPv4.6.6//NONSGML v1.0//EN
CALSCALE:GREGORIAN
METHOD:PUBLISH
X-WR-CALNAME:Juarez Competitiva
X-ORIGINAL-URL:http://www.asifuejuarezcompetitiva.com
X-WR-CALDESC:Events for Juarez Competitiva
BEGIN:VEVENT
DTSTART;VALUE=DATE:20111016
DTEND;VALUE=DATE:20111017
DTSTAMP:20260424T205741
CREATED:20171102T212818Z
LAST-MODIFIED:20171102T212818Z
UID:408-1318723200-1318809599@www.asifuejuarezcompetitiva.com
SUMMARY:Grupos de Danza Destacados de Juárez
DESCRIPTION:Exhibición efectuada en el Templete Grande del Parque Central de las 14:00 a las 15:00 horas \n
URL:http://www.asifuejuarezcompetitiva.com/event/grupos-de-danza-destacados-de-juarez/
CATEGORIES:Artísticos
END:VEVENT
END:VCALENDAR