BEGIN:VCALENDAR
VERSION:2.0
PRODID:-//Juarez Competitiva - ECPv4.6.6//NONSGML v1.0//EN
CALSCALE:GREGORIAN
METHOD:PUBLISH
X-WR-CALNAME:Juarez Competitiva
X-ORIGINAL-URL:http://www.asifuejuarezcompetitiva.com
X-WR-CALDESC:Events for Juarez Competitiva
BEGIN:VEVENT
DTSTART;VALUE=DATE:20111014
DTEND;VALUE=DATE:20111015
DTSTAMP:20260425T021156
CREATED:20171102T160342Z
LAST-MODIFIED:20171102T160342Z
UID:359-1318550400-1318636799@www.asifuejuarezcompetitiva.com
SUMMARY:Historias de Éxito
DESCRIPTION:Este evento se realizó en la Tienda de Souvenir del Espacio Interactivo la Rodadora a las 18:00 horas y concluyó a las 19:30 horas. \n
URL:http://www.asifuejuarezcompetitiva.com/event/historias-de-exito/
CATEGORIES:Otros
END:VEVENT
END:VCALENDAR