BEGIN:VCALENDAR
VERSION:2.0
PRODID:-//Juarez Competitiva - ECPv4.6.6//NONSGML v1.0//EN
CALSCALE:GREGORIAN
METHOD:PUBLISH
X-WR-CALNAME:Juarez Competitiva
X-ORIGINAL-URL:http://www.asifuejuarezcompetitiva.com
X-WR-CALDESC:Events for Juarez Competitiva
BEGIN:VEVENT
DTSTART;VALUE=DATE:20111021
DTEND;VALUE=DATE:20111022
DTSTAMP:20260424T191000
CREATED:20171112T213804Z
LAST-MODIFIED:20171115T031745Z
UID:458-1319155200-1319241599@www.asifuejuarezcompetitiva.com
SUMMARY:Industria Médica y Servicios Médicos
DESCRIPTION:\n\n\nNombre del Evento\nDescripción\n\n\nInauguración de la Industria Médica.\nLa inauguración se realizó en el lobby del Centro Interactivo la Rodadora a las 8:00 horas. Dicho evento estuvo a cargo del Director General de los Servicios Estatales de la Salud\, Marcos Araujo García; del Presidente de la Cruz Roja en la entidad\, Luis Javier Almazán; del representante de los Servicios Estatales de Salud en Juárez\, Felipe Forneli Lafon y del Director de la Jurisdicción Sanitaria II\, Héctor Puertas Rincones. También se contó con la participación del Director del Hospital Ángeles\, Enrique Rodríguez Barragán y de Fabrizio Sánchez Lucio\, Director del Centro Medico de Especialidades.\n\n\nTrenzando Corazones\nTrenzando Corazones es un proyecto creado por la Asociación Cáncer Survivor\, que nace en el 2009creado por dos hermanas sobrevivientes de Cáncer. Trenzando Corazones tiene como objetivo invitar a la sociedad a donar su cabello\, también crear una convivencia entre la sociedad\, los actuales pacientes y los actuales sobrevivientes. Con el fin de luchar contra los mitos que se tienen acerca de cómo es una persona con cáncer\, además de que los pacientes actuales conozcan a alguien que ya supero su mismo tipo de enfermedad\, ofreciendo a la sociedad una opción para unirse y apoyar a las actuales nenas que se encuentren en tratamiento.\n\n\nFeria de la Salud\nCon acceso gratuito para el público\, y como responsable la Dra. Maritza Vargas Moreno. El objetivo fue la prevención de enfermedades coronarias mediante el diagnóstico oportuno\, buscando personas con factores de riesgo como obesidad\, mala alimentación y/o antecedentes familiares con estas enfermedades.\n\n\nCirugía Bariatrica y Metabólica\nSe realizó en el Centro Médico de Especialidades\, Hospital Ángeles\, Hospital Star Medica y Hospital Poli plaza donde participaron 100 médicos\, de las 08:00 a las 16:00 horas. Entrada libre y sin costo adicional alguno. El encargado del proyecto es el Dr. Eduardo Guereque\, y  celebridades procedentes de Brasil como lo son el Dr. Almino Cardoso Ramos y la Dra. Manoela Galvao participaron en el evento. Las personas seleccionadas para ser beneficiadas de esta cirugía fueron dos hombres y una mujer\, uno de ellos de 27 años y estudia Ciencias de la Comunicación y tenía un peso de 221.600 kilogramos.\n\n\nBanco Virtual de Sangre Donadores Anónimos.\nSe atendieron hombres y mujeres mayores de 19 años candidatos a ser donadores de sangre\, el evento fue gratuito y de entrada libre.\n\n\nViviré\nTuvo un horario comprendido de las 10:00 hasta las 18:00 horas\, y sin costo. La encargada del proyecto es la Lic. Elizabeth Morales Ramírez.\n\n\nLos mexicanos del 2030.\nConferencia impartida por el Dr. Enrique Rodríguez Barragán en el Gimnasio de Bachilleres.\n\n\nCONFERENCIA\nPresentación del Dr. Jorge Aragón Lomas en el Gimnasio de Bachilleres de las 9:30 a las 10:30 horas.\n\n\nDR. RODOLFO NERI VELA\nPonencia del Dr. Rodolfo Neri Vela en el Gimnasio de Bachilleres de las 12:00 a las 13:30 para posteriormente tener una rueda de prensa en punto de las 14:00 horas. En la presentación ante la asistencia de unas mil 800 personas el Dr. Neri Vela habló de su experiencia como hombre de espacio\, y como obtuvo un lugar en el trasbordador espacial Atlantis\, también externando que muy probablemente el segundo astronauta mexicano se encuentre estudiando en alguna primaria o secundaria en México\, dirigiéndose a los jóvenes y niños asistentes.\n\n\nEvolución de la Cirugía Laparoscópica.\nEsta ponencia se efectuó en el Gimnasio de Bachilleres de las 17:00 a las 18:00 horas siendo impartida por el Dr. José Mendoza Márquez.\n\n\nAvances en las Cirugías y Epidemias del Siglo 21.\nConferencia impartida en el Gimnasio de Bachilleres a las 18:30 horas por el Dr. José Rodríguez Villarreal finalizó las 20:00 horas.\n\n\nTalleres Infantiles de Arte en el Parque.\nTalleres realizados en la Tienda de Suvenir del Centro Interactivo La Rodadora de las 9:00 a las 12:00 horas.\n\n\nMarionetas Shuto de Arte en el Parque.\nEste evento se llevó a cabo en un horario comprendido de las 9:00a las 11:30 horas. Ésta es una obra de teatro que cuenta una historia de la antigua China y que muestra los valores entre ellos la honestidad\, a la presentación acudieron más de 900 niños de varias escuelas primarias de la ciudad.\n\n\nBel Canto para una Bella Ciudad.\nConcierto realizado en el Centro Cultural Paso del Norte a las 19:00 horas. Este evento se realizó en conjunción del Instituto Nacional de Bellas Artes\, donde se recitó arias de ópera\, zarzuela y canciones clásicas mexicanas. Se tuvo la participación del Barítono\, Armando Mora; la Soprano\, Claraliz Mora; Mezzo Soprano\, Linda Rendón y el Pianista Sergio Vázquez.\n\n\nVideos y proyecciones.\nRepresentaciones mostradas en la Sala 3D del Centro Interactivo La Rodadora referentes a la Industria Medica y Servicios Médicos\, desde las 8:00 hasta las 18:00 horas.\n\n\nInauguración del Museo del Concorde.\nInauguración realizada por el primer astronauta mexicano\, Dr. Rodolfo Neri Vela quien dijo que le hubiera gustado volar en el Concorde\, pero que se tuvo que conformar con el Atlantis. Dicho evento se realizó a las 10:30 horas.\n\n\nJuego de Lotería para niños.\nEvento a realizarse en el Patio Central del Centro Interactivo La Rodadora de las 14:00 a las 15:00 horas y una segunda sesión de las 16:00a las 17:00 horas.\n\n\nPremio Nacional de Literatura.\nEvento que se llevó a cabo en la Biblioteca Central de la Universidad Autónoma de Ciudad Juárez de las 19:00 a las 21:00 horas.\n\n\nExhibición de Cine Infantil.\nExposición realizada en la Sala 3D de las 18:00 a las 20:00 horas.\n\n\nFestejo de Día del Médico.\nEvento realizado de las 21:30 a las 00:00 horas en el Patio Central del Centro Interactivo La Rodadora.\n\n\nLago de los Cisnes\nObra de ballet realizada de las 20:00 a las 21:00 horas en el Área de Jardines del Parque Central a un costado del Lago.\n\n\n\n
URL:http://www.asifuejuarezcompetitiva.com/event/industria-medica-y-servicios-medicos/
CATEGORIES:Conferencias,Exposición
END:VEVENT
END:VCALENDAR