BEGIN:VCALENDAR
VERSION:2.0
PRODID:-//Juarez Competitiva - ECPv4.6.6//NONSGML v1.0//EN
CALSCALE:GREGORIAN
METHOD:PUBLISH
X-WR-CALNAME:Juarez Competitiva
X-ORIGINAL-URL:http://www.asifuejuarezcompetitiva.com
X-WR-CALDESC:Events for Juarez Competitiva
BEGIN:VEVENT
DTSTART;VALUE=DATE:20141014
DTEND;VALUE=DATE:20141015
DTSTAMP:20260424T172408
CREATED:20171102T153735Z
LAST-MODIFIED:20171102T153735Z
UID:312-1413244800-1413331199@www.asifuejuarezcompetitiva.com
SUMMARY:La industria del videojuego en México.
DESCRIPTION:Conferencia impartida por Steve Bocska en la Sala de Exhibiciones Temporales \n
URL:http://www.asifuejuarezcompetitiva.com/event/la-industria-del-videojuego-en-mexico/
CATEGORIES:Conferencias
END:VEVENT
END:VCALENDAR