BEGIN:VCALENDAR
VERSION:2.0
PRODID:-//Juarez Competitiva - ECPv4.6.6//NONSGML v1.0//EN
CALSCALE:GREGORIAN
METHOD:PUBLISH
X-WR-CALNAME:Juarez Competitiva
X-ORIGINAL-URL:http://www.asifuejuarezcompetitiva.com
X-WR-CALDESC:Events for Juarez Competitiva
BEGIN:VEVENT
DTSTART;VALUE=DATE:20111016
DTEND;VALUE=DATE:20111017
DTSTAMP:20260425T004633
CREATED:20171102T205057Z
LAST-MODIFIED:20171102T205057Z
UID:372-1318723200-1318809599@www.asifuejuarezcompetitiva.com
SUMMARY:Mariachi Universidad Autónoma de Ciudad Juárez
DESCRIPTION:Se presentó de las 9:00 a las 10:00 horas en el Templete del Parque Central\, en el cierre del evento deportivo Caminata Recreativa. \n
URL:http://www.asifuejuarezcompetitiva.com/event/mariachi-universidad-autonoma-de-ciudad-juarez/
CATEGORIES:Artísticos
END:VEVENT
END:VCALENDAR