BEGIN:VCALENDAR
VERSION:2.0
PRODID:-//Juarez Competitiva - ECPv4.6.6//NONSGML v1.0//EN
CALSCALE:GREGORIAN
METHOD:PUBLISH
X-WR-CALNAME:Juarez Competitiva
X-ORIGINAL-URL:http://www.asifuejuarezcompetitiva.com
X-WR-CALDESC:Events for Juarez Competitiva
BEGIN:VEVENT
DTSTART;VALUE=DATE:20111014
DTEND;VALUE=DATE:20111015
DTSTAMP:20260425T005153
CREATED:20171102T160210Z
LAST-MODIFIED:20171102T160210Z
UID:350-1318550400-1318636799@www.asifuejuarezcompetitiva.com
SUMMARY:Muestra Gastronómica
DESCRIPTION:Esta muestra se realizó en el Patio Exterior del Centro Interactivo La Rodadora a las 10:00 horas \n
URL:http://www.asifuejuarezcompetitiva.com/event/muestra-gastronomica/
CATEGORIES:Otros
END:VEVENT
END:VCALENDAR