BEGIN:VCALENDAR
VERSION:2.0
PRODID:-//Juarez Competitiva - ECPv4.6.6//NONSGML v1.0//EN
CALSCALE:GREGORIAN
METHOD:PUBLISH
X-WR-CALNAME:Juarez Competitiva
X-ORIGINAL-URL:http://www.asifuejuarezcompetitiva.com
X-WR-CALDESC:Events for Juarez Competitiva
BEGIN:VEVENT
DTSTART;VALUE=DATE:20141014
DTEND;VALUE=DATE:20141015
DTSTAMP:20260424T172331
CREATED:20171102T154604Z
LAST-MODIFIED:20171102T154604Z
UID:321-1413244800-1413331199@www.asifuejuarezcompetitiva.com
SUMMARY:Programa FUMEC para apoyar empresas de Base Tecnológica.
DESCRIPTION:Programa FUMEC para apoyar empresas de Base Tecnológica. \n
URL:http://www.asifuejuarezcompetitiva.com/event/programa-fumec-para-apoyar-empresas-de-base-tecnologica/
CATEGORIES:Foro
END:VEVENT
END:VCALENDAR