BEGIN:VCALENDAR
VERSION:2.0
PRODID:-//Juarez Competitiva - ECPv4.6.6//NONSGML v1.0//EN
CALSCALE:GREGORIAN
METHOD:PUBLISH
X-WR-CALNAME:Juarez Competitiva
X-ORIGINAL-URL:http://www.asifuejuarezcompetitiva.com
X-WR-CALDESC:Events for Juarez Competitiva
BEGIN:VEVENT
DTSTART;VALUE=DATE:20141014
DTEND;VALUE=DATE:20141015
DTSTAMP:20260424T171905
CREATED:20171102T155430Z
LAST-MODIFIED:20171102T155430Z
UID:341-1413244800-1413331199@www.asifuejuarezcompetitiva.com
SUMMARY:Programas de Apoyo en Ti.
DESCRIPTION:Evento que fue llevado a cabo en la Tienda de Suvenir\, y concluyó a las 17:30 horas. \n
URL:http://www.asifuejuarezcompetitiva.com/event/programas-de-apoyo-en-ti/
CATEGORIES:Foro
END:VEVENT
END:VCALENDAR