BEGIN:VCALENDAR
VERSION:2.0
PRODID:-//Juarez Competitiva - ECPv4.6.6//NONSGML v1.0//EN
CALSCALE:GREGORIAN
METHOD:PUBLISH
X-WR-CALNAME:Juarez Competitiva
X-ORIGINAL-URL:http://www.asifuejuarezcompetitiva.com
X-WR-CALDESC:Events for Juarez Competitiva
BEGIN:VEVENT
DTSTART;VALUE=DATE:20111014
DTEND;VALUE=DATE:20111015
DTSTAMP:20260424T190728
CREATED:20171102T154826Z
LAST-MODIFIED:20171102T154826Z
UID:334-1318550400-1318636799@www.asifuejuarezcompetitiva.com
SUMMARY:Programas de Apoyo Gubernamental (PowerUp).
DESCRIPTION:Este evento se realizó de las 18:00 a las 20:00 horas en la Sala de Exhibiciones \n
URL:http://www.asifuejuarezcompetitiva.com/event/programas-de-apoyo-gubernamental-powerup/
CATEGORIES:Foro
END:VEVENT
END:VCALENDAR