BEGIN:VCALENDAR
VERSION:2.0
PRODID:-//Juarez Competitiva - ECPv4.6.6//NONSGML v1.0//EN
CALSCALE:GREGORIAN
METHOD:PUBLISH
X-WR-CALNAME:Juarez Competitiva
X-ORIGINAL-URL:http://www.asifuejuarezcompetitiva.com
X-WR-CALDESC:Events for Juarez Competitiva
BEGIN:VEVENT
DTSTART;VALUE=DATE:20141014
DTEND;VALUE=DATE:20141015
DTSTAMP:20260424T171711
CREATED:20171102T155306Z
LAST-MODIFIED:20171102T155306Z
UID:340-1413244800-1413331199@www.asifuejuarezcompetitiva.com
SUMMARY:Programas de la Academia.
DESCRIPTION:Este evento se realizó de las 11:00 a las 13:00 horas en la Sala de Exhibiciones Temporales por Damon Talley. \n
URL:http://www.asifuejuarezcompetitiva.com/event/programas-de-la-academia/
CATEGORIES:Foro
END:VEVENT
END:VCALENDAR