BEGIN:VCALENDAR
VERSION:2.0
PRODID:-//Juarez Competitiva - ECPv4.6.6//NONSGML v1.0//EN
CALSCALE:GREGORIAN
METHOD:PUBLISH
X-WR-CALNAME:Juarez Competitiva
X-ORIGINAL-URL:http://www.asifuejuarezcompetitiva.com
X-WR-CALDESC:Events for Juarez Competitiva
BEGIN:VEVENT
DTSTART;VALUE=DATE:20111016
DTEND;VALUE=DATE:20111017
DTSTAMP:20260424T225030
CREATED:20171102T212700Z
LAST-MODIFIED:20171102T212700Z
UID:406-1318723200-1318809599@www.asifuejuarezcompetitiva.com
SUMMARY:Ruidos\, Sonidos\, y Otras Yerbas\, Musical
DESCRIPTION:Concierto llevado a cabo en el Patio Interior del Centro Interactivo La Rodadora de las 14:00 a las 15:00 horas. \n
URL:http://www.asifuejuarezcompetitiva.com/event/ruidos-sonidos-y-otras-yerbas-musical/
CATEGORIES:Artísticos
END:VEVENT
END:VCALENDAR