BEGIN:VCALENDAR
VERSION:2.0
PRODID:-//Juarez Competitiva - ECPv4.6.6//NONSGML v1.0//EN
CALSCALE:GREGORIAN
METHOD:PUBLISH
X-WR-CALNAME:Juarez Competitiva
X-ORIGINAL-URL:http://www.asifuejuarezcompetitiva.com
X-WR-CALDESC:Events for Juarez Competitiva
BEGIN:VEVENT
DTSTART;VALUE=DATE:20111016
DTEND;VALUE=DATE:20111017
DTSTAMP:20260424T224109
CREATED:20171102T210805Z
LAST-MODIFIED:20171102T210805Z
UID:389-1318723200-1318809599@www.asifuejuarezcompetitiva.com
SUMMARY:Show de Payasos del Parque Central
DESCRIPTION:Evento que se presentó en el área de comida del Parque Central a las 10:00 hasta las 12:00 horas. \n
URL:http://www.asifuejuarezcompetitiva.com/event/show-de-payasos-del-parque-central/
CATEGORIES:Artísticos
END:VEVENT
END:VCALENDAR