BEGIN:VCALENDAR
VERSION:2.0
PRODID:-//Juarez Competitiva - ECPv4.6.6//NONSGML v1.0//EN
CALSCALE:GREGORIAN
METHOD:PUBLISH
X-WR-CALNAME:Juarez Competitiva
X-ORIGINAL-URL:http://www.asifuejuarezcompetitiva.com
X-WR-CALDESC:Events for Juarez Competitiva
BEGIN:VEVENT
DTSTART;VALUE=DATE:20111016
DTEND;VALUE=DATE:20111017
DTSTAMP:20260424T205510
CREATED:20171102T221305Z
LAST-MODIFIED:20171102T221305Z
UID:411-1318723200-1318809599@www.asifuejuarezcompetitiva.com
SUMMARY:Sóried\, Agrupación Musical
DESCRIPTION:Concierto efectuado de las 16:00 a las 17:00 horas en el área de comidas del Parque Central \n
URL:http://www.asifuejuarezcompetitiva.com/event/soried-agrupacion-musical/
CATEGORIES:Artísticos
END:VEVENT
END:VCALENDAR