BEGIN:VCALENDAR
VERSION:2.0
PRODID:-//Juarez Competitiva - ECPv4.6.6//NONSGML v1.0//EN
CALSCALE:GREGORIAN
METHOD:PUBLISH
X-WR-CALNAME:Juarez Competitiva
X-ORIGINAL-URL:http://www.asifuejuarezcompetitiva.com
X-WR-CALDESC:Events for Juarez Competitiva
BEGIN:VEVENT
DTSTART;VALUE=DATE:20111016
DTEND;VALUE=DATE:20111017
DTSTAMP:20260424T205658
CREATED:20171102T221218Z
LAST-MODIFIED:20171102T221218Z
UID:410-1318723200-1318809599@www.asifuejuarezcompetitiva.com
SUMMARY:Teatro Circo de los Valores
DESCRIPTION:Función realizada de las 15:00 a las 17:00 horas en el espacio del Templete Grande del Parque Central \n
URL:http://www.asifuejuarezcompetitiva.com/event/teatro-circo-de-los-valores/
CATEGORIES:Educativo
END:VEVENT
END:VCALENDAR