BEGIN:VCALENDAR
VERSION:2.0
PRODID:-//Juarez Competitiva - ECPv4.6.6//NONSGML v1.0//EN
CALSCALE:GREGORIAN
METHOD:PUBLISH
X-WR-CALNAME:Juarez Competitiva
X-ORIGINAL-URL:http://www.asifuejuarezcompetitiva.com
X-WR-CALDESC:Events for Juarez Competitiva
BEGIN:VEVENT
DTSTART;VALUE=DATE:20111014
DTEND;VALUE=DATE:20111015
DTSTAMP:20260425T003405
CREATED:20171102T152323Z
LAST-MODIFIED:20171102T152529Z
UID:300-1318550400-1318636799@www.asifuejuarezcompetitiva.com
SUMMARY:Temporada de Patos
DESCRIPTION:Este torneo inició a las 9:00 horas el día 13 de octubre con el registro de los participantes en el Centro Interactivo La Rodadora\, destinando el espacio de la Biblioteca Mediática que cuenta con un área de 200 metros cuadrados\, donde se instalaron más de 100 monitores\, en los cuales los participantes jugaron y demostraron sus conocimientos en el desarrollo de software para videojuegos. \n
URL:http://www.asifuejuarezcompetitiva.com/event/temporada-de-patos-8/
END:VEVENT
END:VCALENDAR