BEGIN:VCALENDAR
VERSION:2.0
PRODID:-//Juarez Competitiva - ECPv4.6.6//NONSGML v1.0//EN
CALSCALE:GREGORIAN
METHOD:PUBLISH
X-WR-CALNAME:Juarez Competitiva
X-ORIGINAL-URL:http://www.asifuejuarezcompetitiva.com
X-WR-CALDESC:Events for Juarez Competitiva
BEGIN:VEVENT
DTSTART;VALUE=DATE:20141014
DTEND;VALUE=DATE:20141015
DTSTAMP:20260424T172545
CREATED:20171102T153605Z
LAST-MODIFIED:20171102T153605Z
UID:310-1413244800-1413331199@www.asifuejuarezcompetitiva.com
SUMMARY:Tendencias Mundíales en la Industria del videojuego.
DESCRIPTION:Conferencia impartida en la Sala de Exhibiciones Temporales\, teniendo como autor principal Steve Bocska. \n
URL:http://www.asifuejuarezcompetitiva.com/event/tendencias-mundiales-en-la-industria-del-videojuego/
CATEGORIES:Conferencias
END:VEVENT
END:VCALENDAR