BEGIN:VCALENDAR
VERSION:2.0
PRODID:-//Juarez Competitiva - ECPv4.6.6//NONSGML v1.0//EN
CALSCALE:GREGORIAN
METHOD:PUBLISH
X-WR-CALNAME:Juarez Competitiva
X-ORIGINAL-URL:http://www.asifuejuarezcompetitiva.com
X-WR-CALDESC:Events for Juarez Competitiva
BEGIN:VEVENT
DTSTART;VALUE=DATE:20111028
DTEND;VALUE=DATE:20111029
DTSTAMP:20260424T190451
CREATED:20171115T052708Z
LAST-MODIFIED:20171115T052708Z
UID:485-1319760000-1319846399@www.asifuejuarezcompetitiva.com
SUMMARY:Varios
DESCRIPTION:\n\n\nNombre del Evento\nDescripción\n\n\nRadio por Juárez\nEvento efectuado dentro de todo el Centro Interactivo La Rodadora de 11:00 a.m. a 8:00 p.m.\n\n\nYuxtapuestos\nExhibición presentada en el Patio Central del Centro Interactivo La Rodadora de 11:00 a.m. a 8:00 p.m. de productos que los jóvenes diseñan\, construyen y venden entre los cuales se encuentran accesorios\, disfraces\, obras\, ropa\, etc.\n\n\nMulticultural\nEvento musical llevado a cabo en el Patio Central del Centro Interactivo la Rodadora de las 11:00 a.m. a 8:00 p.m. Un evento multidiciplinario con bandas locales de rock y artistas de diferentes ámbitos y expresiones.\n\n\nExposición Fotográfica\nExhibición presentada en el Vestíbulo del Centro Interactivo La Rodadora de 11:00 a.m. a 8:00 p.m.\n\n\nForo de Expresiones Juveniles con Líderes Sociales y Catedráticos\nForo efectuada en la Sala de Exposiciones Temporales del Centro Interactivo La Rodadora a las 13:00 hrs.\n\n\nDiálogos Terrícolas\nEvento realizado en la Sala Biblioteca del Centro Interactivo La Rodadora de 4:00 a 8:00 p.m. el cual consistió de 8 charlas\, videoconferencias de 15 minutos de Ideas geniales o innovadoras (www.TED.com) intercaladas con 8 charlas por jóvenes emprendedores sociales de 15 minutos bajo el tema de “Como cambiar las vidas de las personas”.\n\n\nConcurso de Grafitti\nConcurso de arte urbano\, graffitti e ilustración entre artistas locales. Efectuado en el vestíbulo del centro Interactivo La Rodadora de 4:00 a 7:00 p.m.\n\n\nVideoconferencia Terratour\nVideoconferencia impartida en la Sala Biblioteca del Centro Interactivo La Rodadora de 5:00 a 5:40 p.m. Terratour está compuesto por un grupo de jóvenes que se dedican a recorrer el Continente Americano impulsando y motivando a las nuevas generaciones a alcanzar sus objetivos.\n\n\nRazones para creer en Juárez\nConferencia impartida por el Ing. Luis Toussaint\, Director de Relaciones Publicas de Arca Continental a las 18:00 hrs. en el Gimnasio de Bachilleres.\n\n\nLago de los Cisnes\nObra de ballet realizada de las 20:00 a las 21:00 horas en el Área de Jardines del Parque Central a un costado del Lago.\n\n\n\n
URL:http://www.asifuejuarezcompetitiva.com/event/varios/
CATEGORIES:Artísticos,Conferencias,Foro
END:VEVENT
END:VCALENDAR