BEGIN:VCALENDAR
VERSION:2.0
PRODID:-//Juarez Competitiva - ECPv4.6.6//NONSGML v1.0//EN
CALSCALE:GREGORIAN
METHOD:PUBLISH
X-WR-CALNAME:Juarez Competitiva
X-ORIGINAL-URL:http://www.asifuejuarezcompetitiva.com
X-WR-CALDESC:Events for Juarez Competitiva
BEGIN:VEVENT
DTSTART;VALUE=DATE:20111014
DTEND;VALUE=DATE:20111015
DTSTAMP:20260425T004047
CREATED:20171102T155910Z
LAST-MODIFIED:20171102T155910Z
UID:347-1318550400-1318636799@www.asifuejuarezcompetitiva.com
SUMMARY:Video Conferencia\, Puerto Espacial Kennedy
DESCRIPTION:La National Aeronautics and Space Administration (NASA) y Tú. Esta videoconferencia estuvo enfocada a estudiantes de nivel medio superior y fue impartido en la Sala 3D a las 12:15 horas. \n
URL:http://www.asifuejuarezcompetitiva.com/event/video-conferencia-puerto-espacial-kennedy/
CATEGORIES:Conferencias
END:VEVENT
END:VCALENDAR