BEGIN:VCALENDAR
VERSION:2.0
PRODID:-//Juarez Competitiva - ECPv4.6.6//NONSGML v1.0//EN
CALSCALE:GREGORIAN
METHOD:PUBLISH
X-WR-CALNAME:Juarez Competitiva
X-ORIGINAL-URL:http://www.asifuejuarezcompetitiva.com
X-WR-CALDESC:Events for Juarez Competitiva
BEGIN:VEVENT
DTSTART;VALUE=DATE:20111014
DTEND;VALUE=DATE:20111015
DTSTAMP:20260424T192317
CREATED:20171102T155640Z
LAST-MODIFIED:20171102T155640Z
UID:344-1318550400-1318636799@www.asifuejuarezcompetitiva.com
SUMMARY:Videoconferencia con la National Aeronautics and Space Administration (NASA). Centro Espacial Goddard – Conociendo la Luna con Wall – E.
DESCRIPTION:Esta video conferencia se realizó en la Sala 3D del Centro Interactivo La Rodadora el día 14 de octubre a las 8:15 horas y se contó con la presencia de Shane Keating. Siendo enfocada a niños de kínder y hasta tercer grado de primaria. \n
URL:http://www.asifuejuarezcompetitiva.com/event/videoconferencia-con-la-national-aeronautics-and-space-administration-nasa-centro-espacial-goddard-conociendo-la-luna-con-wall-e/
CATEGORIES:Conferencias
END:VEVENT
END:VCALENDAR